BEGIN:VCALENDAR
VERSION:2.0
PRODID:-//Erskine Church, Carnoustie - ECPv6.15.20//NONSGML v1.0//EN
CALSCALE:GREGORIAN
METHOD:PUBLISH
X-WR-CALNAME:Erskine Church, Carnoustie
X-ORIGINAL-URL:https://angusufchurch.org.uk
X-WR-CALDESC:Events for Erskine Church, Carnoustie
REFRESH-INTERVAL;VALUE=DURATION:PT1H
X-Robots-Tag:noindex
X-PUBLISHED-TTL:PT1H
BEGIN:VTIMEZONE
TZID:UTC
BEGIN:STANDARD
TZOFFSETFROM:+0000
TZOFFSETTO:+0000
TZNAME:UTC
DTSTART:20250101T000000
END:STANDARD
END:VTIMEZONE
BEGIN:VTIMEZONE
TZID:Europe/London
BEGIN:DAYLIGHT
TZOFFSETFROM:+0000
TZOFFSETTO:+0100
TZNAME:BST
DTSTART:20250330T010000
END:DAYLIGHT
BEGIN:STANDARD
TZOFFSETFROM:+0100
TZOFFSETTO:+0000
TZNAME:GMT
DTSTART:20251026T010000
END:STANDARD
BEGIN:DAYLIGHT
TZOFFSETFROM:+0000
TZOFFSETTO:+0100
TZNAME:BST
DTSTART:20260329T010000
END:DAYLIGHT
BEGIN:STANDARD
TZOFFSETFROM:+0100
TZOFFSETTO:+0000
TZNAME:GMT
DTSTART:20261025T010000
END:STANDARD
BEGIN:DAYLIGHT
TZOFFSETFROM:+0000
TZOFFSETTO:+0100
TZNAME:BST
DTSTART:20270328T010000
END:DAYLIGHT
BEGIN:STANDARD
TZOFFSETFROM:+0100
TZOFFSETTO:+0000
TZNAME:GMT
DTSTART:20271031T010000
END:STANDARD
END:VTIMEZONE
BEGIN:VEVENT
DTSTART;TZID=UTC:20260426T100000
DTEND;TZID=UTC:20260426T100000
DTSTAMP:20260424T163125
CREATED:20260123T183310Z
LAST-MODIFIED:20260123T183310Z
UID:1731-1777197600-1777197600@angusufchurch.org.uk
SUMMARY:Sunday Morning Worship
DESCRIPTION:We invite you to join us for worship\, which is our joyful response that reflects the worth of God
URL:https://angusufchurch.org.uk/event/sunday-morning-worship-13/
LOCATION:Erskine Church\, 18 Kinloch Street\, Carnoustie\, Angus\, DD7 7EF\, United Kingdom
ATTACH;FMTTYPE=image/jpeg:https://angusufchurch.org.uk/wp-content/uploads/Sunday-Morning-Worship.jpg
END:VEVENT
BEGIN:VEVENT
DTSTART;TZID=Europe/London:20260429T140000
DTEND;TZID=Europe/London:20260429T140000
DTSTAMP:20260424T163125
CREATED:20260123T183044Z
LAST-MODIFIED:20260123T183044Z
UID:1719-1777471200-1777471200@angusufchurch.org.uk
SUMMARY:Bible Study
DESCRIPTION:We meet in Erskine Church lounge each Wednesday at 2pm to share fellowship and faith as we pray and study God’s Word together.
URL:https://angusufchurch.org.uk/event/bible-study-14/
LOCATION:Erskine Church\, 18 Kinloch Street\, Carnoustie\, Angus\, DD7 7EF\, United Kingdom
ATTACH;FMTTYPE=image/jpeg:https://angusufchurch.org.uk/wp-content/uploads/2025/07/Bible-in-Hand.jpg
END:VEVENT
BEGIN:VEVENT
DTSTART;TZID=Europe/London:20260429T193000
DTEND;TZID=Europe/London:20260429T193000
DTSTAMP:20260424T163125
CREATED:20260123T183149Z
LAST-MODIFIED:20260123T183149Z
UID:1725-1777491000-1777491000@angusufchurch.org.uk
SUMMARY:Heart to Heart
DESCRIPTION:Heart to Heart is a fellowship for ladies of all ages\, regardless of church membership.
URL:https://angusufchurch.org.uk/event/heart-to-heart-11/
LOCATION:Erskine Church\, 18 Kinloch Street\, Carnoustie\, Angus\, DD7 7EF\, United Kingdom
CATEGORIES:HtoH
ATTACH;FMTTYPE=image/jpeg:https://angusufchurch.org.uk/wp-content/uploads/Heart-to-Heart-Logo-16x9-1.jpg
END:VEVENT
BEGIN:VEVENT
DTSTART;TZID=Europe/London:20260430T140000
DTEND;TZID=Europe/London:20260430T140000
DTSTAMP:20260424T163125
CREATED:20260123T182813Z
LAST-MODIFIED:20260123T182813Z
UID:1706-1777557600-1777557600@angusufchurch.org.uk
SUMMARY:Thursday Activities
DESCRIPTION:Join us in the hall from 2pm to enjoy one another’s company and various activities with a cup of tea or coffee.
URL:https://angusufchurch.org.uk/event/thursday-activities-15/
LOCATION:Erskine Church\, 18 Kinloch Street\, Carnoustie\, Angus\, DD7 7EF\, United Kingdom
ATTACH;FMTTYPE=image/jpeg:https://angusufchurch.org.uk/wp-content/uploads/2025/07/close-up-of-scrabble-tiles-scattered-on-the-board-capturing-leisure-and-word-play.-1153929-scaled.jpg
END:VEVENT
BEGIN:VEVENT
DTSTART;TZID=Europe/London:20260430T193000
DTEND;TZID=Europe/London:20260430T193000
DTSTAMP:20260424T163125
CREATED:20260123T134005Z
LAST-MODIFIED:20260220T100350Z
UID:1667-1777577400-1777577400@angusufchurch.org.uk
SUMMARY:Discipleship Explored
DESCRIPTION:Discipleship Explored helps followers of Jesus turn up the gospel soundtrack to their lives.
URL:https://angusufchurch.org.uk/event/discipleship-explored/
LOCATION:Erskine Church\, 18 Kinloch Street\, Carnoustie\, Angus\, DD7 7EF\, United Kingdom
CATEGORIES:DE
ATTACH;FMTTYPE=image/jpeg:https://angusufchurch.org.uk/wp-content/uploads/DE.jpg
END:VEVENT
END:VCALENDAR