BEGIN:VCALENDAR
VERSION:2.0
PRODID:-//Erskine Church, Carnoustie - ECPv6.15.20//NONSGML v1.0//EN
CALSCALE:GREGORIAN
METHOD:PUBLISH
X-WR-CALNAME:Erskine Church, Carnoustie
X-ORIGINAL-URL:https://angusufchurch.org.uk
X-WR-CALDESC:Events for Erskine Church, Carnoustie
REFRESH-INTERVAL;VALUE=DURATION:PT1H
X-Robots-Tag:noindex
X-PUBLISHED-TTL:PT1H
BEGIN:VTIMEZONE
TZID:UTC
BEGIN:STANDARD
TZOFFSETFROM:+0000
TZOFFSETTO:+0000
TZNAME:UTC
DTSTART:20250101T000000
END:STANDARD
END:VTIMEZONE
BEGIN:VTIMEZONE
TZID:Europe/London
BEGIN:DAYLIGHT
TZOFFSETFROM:+0000
TZOFFSETTO:+0100
TZNAME:BST
DTSTART:20250330T010000
END:DAYLIGHT
BEGIN:STANDARD
TZOFFSETFROM:+0100
TZOFFSETTO:+0000
TZNAME:GMT
DTSTART:20251026T010000
END:STANDARD
BEGIN:DAYLIGHT
TZOFFSETFROM:+0000
TZOFFSETTO:+0100
TZNAME:BST
DTSTART:20260329T010000
END:DAYLIGHT
BEGIN:STANDARD
TZOFFSETFROM:+0100
TZOFFSETTO:+0000
TZNAME:GMT
DTSTART:20261025T010000
END:STANDARD
BEGIN:DAYLIGHT
TZOFFSETFROM:+0000
TZOFFSETTO:+0100
TZNAME:BST
DTSTART:20270328T010000
END:DAYLIGHT
BEGIN:STANDARD
TZOFFSETFROM:+0100
TZOFFSETTO:+0000
TZNAME:GMT
DTSTART:20271031T010000
END:STANDARD
END:VTIMEZONE
BEGIN:VEVENT
DTSTART;TZID=UTC:20260412T100000
DTEND;TZID=UTC:20260412T100000
DTSTAMP:20260424T173009
CREATED:20260123T183249Z
LAST-MODIFIED:20260123T183249Z
UID:1727-1775988000-1775988000@angusufchurch.org.uk
SUMMARY:Sunday Morning Worship
DESCRIPTION:We invite you to join us for worship\, which is our joyful response that reflects the worth of God
URL:https://angusufchurch.org.uk/event/sunday-morning-worship-8/
LOCATION:Erskine Church\, 18 Kinloch Street\, Carnoustie\, Angus\, DD7 7EF\, United Kingdom
ATTACH;FMTTYPE=image/jpeg:https://angusufchurch.org.uk/wp-content/uploads/Sunday-Morning-Worship.jpg
END:VEVENT
BEGIN:VEVENT
DTSTART;TZID=Europe/London:20260409T193000
DTEND;TZID=Europe/London:20260409T193000
DTSTAMP:20260424T173010
CREATED:20260123T134220Z
LAST-MODIFIED:20260123T135100Z
UID:1674-1775763000-1775763000@angusufchurch.org.uk
SUMMARY:Discipleship Explored
DESCRIPTION:Discipleship Explored helps followers of Jesus turn up the gospel soundtrack to their lives.
URL:https://angusufchurch.org.uk/event/discipleship-explored-4/
LOCATION:Erskine Church\, 18 Kinloch Street\, Carnoustie\, Angus\, DD7 7EF\, United Kingdom
CATEGORIES:DE
ATTACH;FMTTYPE=image/jpeg:https://angusufchurch.org.uk/wp-content/uploads/DE.jpg
END:VEVENT
BEGIN:VEVENT
DTSTART;TZID=Europe/London:20260409T140000
DTEND;TZID=Europe/London:20260409T140000
DTSTAMP:20260424T173010
CREATED:20260123T182737Z
LAST-MODIFIED:20260123T182737Z
UID:1700-1775743200-1775743200@angusufchurch.org.uk
SUMMARY:Thursday Activities
DESCRIPTION:Join us in the hall from 2pm to enjoy one another’s company and various activities with a cup of tea or coffee.
URL:https://angusufchurch.org.uk/event/thursday-activities-12/
LOCATION:Erskine Church\, 18 Kinloch Street\, Carnoustie\, Angus\, DD7 7EF\, United Kingdom
ATTACH;FMTTYPE=image/jpeg:https://angusufchurch.org.uk/wp-content/uploads/2025/07/close-up-of-scrabble-tiles-scattered-on-the-board-capturing-leisure-and-word-play.-1153929-scaled.jpg
END:VEVENT
BEGIN:VEVENT
DTSTART;TZID=Europe/London:20260408T140000
DTEND;TZID=Europe/London:20260408T140000
DTSTAMP:20260424T173010
CREATED:20260123T182958Z
LAST-MODIFIED:20260123T182958Z
UID:1713-1775656800-1775656800@angusufchurch.org.uk
SUMMARY:Bible Study
DESCRIPTION:We meet in Erskine Church lounge each Wednesday at 2pm to share fellowship and faith as we pray and study God’s Word together.
URL:https://angusufchurch.org.uk/event/bible-study-11/
LOCATION:Erskine Church\, 18 Kinloch Street\, Carnoustie\, Angus\, DD7 7EF\, United Kingdom
ATTACH;FMTTYPE=image/jpeg:https://angusufchurch.org.uk/wp-content/uploads/2025/07/Bible-in-Hand.jpg
END:VEVENT
BEGIN:VEVENT
DTSTART;TZID=Europe/London:20260405T190000
DTEND;TZID=Europe/London:20260405T190000
DTSTAMP:20260424T173010
CREATED:20260122T160509Z
LAST-MODIFIED:20260311T151541Z
UID:1631-1775415600-1775415600@angusufchurch.org.uk
SUMMARY:Resurrection Celebration
DESCRIPTION:Easter Sunday evening service at Carnoustie Baptist Church
URL:https://angusufchurch.org.uk/event/resurrection-celebration/
LOCATION:Carnoustie Baptist Church\, 101-103 High Street\, Carnoustie\, Angus\, DD7 7EA\, United Kingdom
ATTACH;FMTTYPE=image/jpeg:https://angusufchurch.org.uk/wp-content/uploads/HeIsRisenWelcomeSlide.jpg
END:VEVENT
BEGIN:VEVENT
DTSTART;TZID=UTC:20260405T100000
DTEND;TZID=UTC:20260405T100000
DTSTAMP:20260424T173010
CREATED:20260122T163216Z
LAST-MODIFIED:20260122T163216Z
UID:1638-1775383200-1775383200@angusufchurch.org.uk
SUMMARY:Easter Morning Worship
DESCRIPTION:We invite you to join us for worship\, which is our joyful response that reflects the worth of God
URL:https://angusufchurch.org.uk/event/easter-morning-worship/
LOCATION:Erskine Church\, 18 Kinloch Street\, Carnoustie\, Angus\, DD7 7EF\, United Kingdom
ATTACH;FMTTYPE=image/jpeg:https://angusufchurch.org.uk/wp-content/uploads/Easter.jpg
END:VEVENT
BEGIN:VEVENT
DTSTART;TZID=Europe/London:20260404T190000
DTEND;TZID=Europe/London:20260404T190000
DTSTAMP:20260424T173010
CREATED:20260122T163507Z
LAST-MODIFIED:20260122T163707Z
UID:1641-1775329200-1775329200@angusufchurch.org.uk
SUMMARY:Holy Week Service
DESCRIPTION:Taizé evening service at Holy Rood Church
URL:https://angusufchurch.org.uk/event/holy-week-service-5/
LOCATION:Holy Rood Church\, 60 Maule Street\, Carnoustie\, DD7 6AB
ATTACH;FMTTYPE=image/jpeg:https://angusufchurch.org.uk/wp-content/uploads/Holy-Week.jpg
END:VEVENT
BEGIN:VEVENT
DTSTART;TZID=Europe/London:20260403T190000
DTEND;TZID=Europe/London:20260403T190000
DTSTAMP:20260424T173010
CREATED:20260122T160221Z
LAST-MODIFIED:20260122T160613Z
UID:1627-1775242800-1775242800@angusufchurch.org.uk
SUMMARY:Holy Week Service
DESCRIPTION:Friday of Holy Week evening service at Barry Church
URL:https://angusufchurch.org.uk/event/holy-week-service-4/
LOCATION:Barry Church\, Main Street Barry\, Carnoustie\, DD7 7AR
ATTACH;FMTTYPE=image/jpeg:https://angusufchurch.org.uk/wp-content/uploads/Holy-Week.jpg
END:VEVENT
BEGIN:VEVENT
DTSTART;TZID=Europe/London:20260402T190000
DTEND;TZID=Europe/London:20260402T190000
DTSTAMP:20260424T173010
CREATED:20260122T160158Z
LAST-MODIFIED:20260122T160752Z
UID:1625-1775156400-1775156400@angusufchurch.org.uk
SUMMARY:Holy Week Service
DESCRIPTION:Thursday of Holy Week evening service\, including communion\, at Erskine Church
URL:https://angusufchurch.org.uk/event/holy-week-service-3/
LOCATION:Erskine Church\, 18 Kinloch Street\, Carnoustie\, Angus\, DD7 7EF\, United Kingdom
ATTACH;FMTTYPE=image/jpeg:https://angusufchurch.org.uk/wp-content/uploads/Holy-Week.jpg
END:VEVENT
BEGIN:VEVENT
DTSTART;TZID=Europe/London:20260402T140000
DTEND;TZID=Europe/London:20260402T140000
DTSTAMP:20260424T173010
CREATED:20250709T085916Z
LAST-MODIFIED:20260123T182704Z
UID:543-1775138400-1775138400@angusufchurch.org.uk
SUMMARY:Thursday Activities
DESCRIPTION:Join us in the hall from 2pm to enjoy one another’s company and various activities with a cup of tea or coffee.
URL:https://angusufchurch.org.uk/event/thursday-activities-3/
LOCATION:Erskine Church\, 18 Kinloch Street\, Carnoustie\, Angus\, DD7 7EF\, United Kingdom
ATTACH;FMTTYPE=image/jpeg:https://angusufchurch.org.uk/wp-content/uploads/2025/07/close-up-of-scrabble-tiles-scattered-on-the-board-capturing-leisure-and-word-play.-1153929-scaled.jpg
END:VEVENT
BEGIN:VEVENT
DTSTART;TZID=Europe/London:20260401T190000
DTEND;TZID=Europe/London:20260401T190000
DTSTAMP:20260424T173010
CREATED:20260122T160058Z
LAST-MODIFIED:20260122T160652Z
UID:1621-1775070000-1775070000@angusufchurch.org.uk
SUMMARY:Holy Week Service
DESCRIPTION:Wednesday of Holy Week evening service at Newton Panbride Church
URL:https://angusufchurch.org.uk/event/holy-week-service-2/
LOCATION:Newton Panbride Church\, 8 Arbroath Road\, Carnoustie\, DD7 6BL
ATTACH;FMTTYPE=image/jpeg:https://angusufchurch.org.uk/wp-content/uploads/Holy-Week.jpg
END:VEVENT
BEGIN:VEVENT
DTSTART;TZID=Europe/London:20260331T140000
DTEND;TZID=Europe/London:20260331T140000
DTSTAMP:20260424T173010
CREATED:20260311T074841Z
LAST-MODIFIED:20260311T075011Z
UID:1761-1774965600-1774965600@angusufchurch.org.uk
SUMMARY:Annual General Meeting
DESCRIPTION:
URL:https://angusufchurch.org.uk/event/agm/
LOCATION:Angus
ATTACH;FMTTYPE=image/jpeg:https://angusufchurch.org.uk/wp-content/uploads/UF-Logo-1.jpg
END:VEVENT
BEGIN:VEVENT
DTSTART;TZID=Europe/London:20260329T190000
DTEND;TZID=Europe/London:20260329T190000
DTSTAMP:20260424T173010
CREATED:20260122T153057Z
LAST-MODIFIED:20260122T153357Z
UID:1615-1774810800-1774810800@angusufchurch.org.uk
SUMMARY:Holy Week Service
DESCRIPTION:Palm Sunday evening service at St Anne’s Church
URL:https://angusufchurch.org.uk/event/holy-week-service/
LOCATION:St Anne’s Church\, 64 Thomas Street\, Carnoustie\, DD7 7LA
ATTACH;FMTTYPE=image/jpeg:https://angusufchurch.org.uk/wp-content/uploads/Holy-Week.jpg
END:VEVENT
BEGIN:VEVENT
DTSTART;TZID=UTC:20260329T100000
DTEND;TZID=UTC:20260329T100000
DTSTAMP:20260424T173010
CREATED:20260121T165930Z
LAST-MODIFIED:20260121T165930Z
UID:1603-1774778400-1774778400@angusufchurch.org.uk
SUMMARY:Sunday Morning Worship
DESCRIPTION:We invite you to join us for worship\, which is our joyful response that reflects the worth of God
URL:https://angusufchurch.org.uk/event/sunday-morning-worship-11/
LOCATION:Erskine Church\, 18 Kinloch Street\, Carnoustie\, Angus\, DD7 7EF\, United Kingdom
ATTACH;FMTTYPE=image/jpeg:https://angusufchurch.org.uk/wp-content/uploads/Sunday-Morning-Worship.jpg
END:VEVENT
BEGIN:VEVENT
DTSTART;TZID=Europe/London:20260326T193000
DTEND;TZID=Europe/London:20260326T193000
DTSTAMP:20260424T173010
CREATED:20260123T134107Z
LAST-MODIFIED:20260123T135115Z
UID:1672-1774553400-1774553400@angusufchurch.org.uk
SUMMARY:Discipleship Explored
DESCRIPTION:Discipleship Explored helps followers of Jesus turn up the gospel soundtrack to their lives.
URL:https://angusufchurch.org.uk/event/discipleship-explored-3/
LOCATION:Erskine Church\, 18 Kinloch Street\, Carnoustie\, Angus\, DD7 7EF\, United Kingdom
CATEGORIES:DE
ATTACH;FMTTYPE=image/jpeg:https://angusufchurch.org.uk/wp-content/uploads/DE.jpg
END:VEVENT
BEGIN:VEVENT
DTSTART;TZID=Europe/London:20260326T140000
DTEND;TZID=Europe/London:20260326T140000
DTSTAMP:20260424T173010
CREATED:20260122T180315Z
LAST-MODIFIED:20260122T180315Z
UID:1665-1774533600-1774533600@angusufchurch.org.uk
SUMMARY:Thursday Activities
DESCRIPTION:Join us in the hall from 2pm to enjoy one another’s company and various activities with a cup of tea or coffee.
URL:https://angusufchurch.org.uk/event/thursday-activities-11/
LOCATION:Erskine Church\, 18 Kinloch Street\, Carnoustie\, Angus\, DD7 7EF\, United Kingdom
ATTACH;FMTTYPE=image/jpeg:https://angusufchurch.org.uk/wp-content/uploads/2025/07/close-up-of-scrabble-tiles-scattered-on-the-board-capturing-leisure-and-word-play.-1153929-scaled.jpg
END:VEVENT
BEGIN:VEVENT
DTSTART;TZID=Europe/London:20260325T193000
DTEND;TZID=Europe/London:20260325T193000
DTSTAMP:20260424T173010
CREATED:20260122T175852Z
LAST-MODIFIED:20260122T180046Z
UID:1659-1774467000-1774467000@angusufchurch.org.uk
SUMMARY:Heart to Heart
DESCRIPTION:Heart to Heart is a fellowship for ladies of all ages\, regardless of church membership.
URL:https://angusufchurch.org.uk/event/heart-to-heart-8/
LOCATION:Erskine Church\, 18 Kinloch Street\, Carnoustie\, Angus\, DD7 7EF\, United Kingdom
CATEGORIES:HtoH
ATTACH;FMTTYPE=image/jpeg:https://angusufchurch.org.uk/wp-content/uploads/Heart-to-Heart-Logo-16x9-1.jpg
END:VEVENT
BEGIN:VEVENT
DTSTART;TZID=Europe/London:20260325T140000
DTEND;TZID=Europe/London:20260325T140000
DTSTAMP:20260424T173010
CREATED:20260122T175745Z
LAST-MODIFIED:20260122T175745Z
UID:1652-1774447200-1774447200@angusufchurch.org.uk
SUMMARY:Bible Study
DESCRIPTION:We meet in Erskine Church lounge each Wednesday at 2pm to share fellowship and faith as we pray and study God’s Word together.
URL:https://angusufchurch.org.uk/event/bible-study-9/
LOCATION:Erskine Church\, 18 Kinloch Street\, Carnoustie\, Angus\, DD7 7EF\, United Kingdom
ATTACH;FMTTYPE=image/jpeg:https://angusufchurch.org.uk/wp-content/uploads/2025/07/Bible-in-Hand.jpg
END:VEVENT
END:VCALENDAR